BEGIN:VCALENDAR
VERSION:2.0
PRODID:-//wp-events-plugin.com//7.2.3.1//EN
TZID:Europe/London
X-WR-TIMEZONE:Europe/London
BEGIN:VEVENT
UID:277@ageconcernchelmsford.org.uk
DTSTART;TZID=Europe/London:20260429T093000
DTEND;TZID=Europe/London:20260429T113000
DTSTAMP:20260328T135750Z
URL:https://ageconcernchelmsford.org.uk/events/footcare-services-2/
SUMMARY:Footcare Services
DESCRIPTION:The footcare specialist visits the Community Centre every 6 wee
 ks. During the appointment she offers overall foot health checks which are
  beneficial\, particularly to people with Diabetes. She trims/files toes n
 ails\, removes callus build up/reduces thickened nails\, removes ingrown t
 oe nails or corns and offers guidance for dry skin.\n\nPlease call or emai
 l to book your appointment for this next visit.\n\nCost is £25\, payable 
 by cash only.
CATEGORIES:On-Site Services
LOCATION:Age Concern Chelmsford\, 17 Cottage Place\, Chelmsford\, Essex\, C
 M1 1NL\, United Kingdom
X-APPLE-STRUCTURED-LOCATION;VALUE=URI;X-ADDRESS=17 Cottage Place\, Chelmsfo
 rd\, Essex\, CM1 1NL\, United Kingdom;X-APPLE-RADIUS=100;X-TITLE=Age Conce
 rn Chelmsford:geo:0,0
END:VEVENT
BEGIN:VTIMEZONE
TZID:Europe/London
X-LIC-LOCATION:Europe/London
BEGIN:DAYLIGHT
DTSTART:20260329T020000
TZOFFSETFROM:+0000
TZOFFSETTO:+0100
TZNAME:BST
END:DAYLIGHT
END:VTIMEZONE
END:VCALENDAR