BEGIN:VCALENDAR
VERSION:2.0
PRODID:-//wp-events-plugin.com//7.2.3.1//EN
TZID:Europe/London
X-WR-TIMEZONE:Europe/London
BEGIN:VEVENT
UID:1@ageconcernchelmsford.org.uk
DTSTART;TZID=Europe/London:20250425T100000
DTEND;TZID=Europe/London:20250425T120000
DTSTAMP:20250411T111043Z
URL:https://ageconcernchelmsford.org.uk/events/podiatrist-visit-250425/
SUMMARY:Podiatrist Visit
DESCRIPTION:The Podiatrist visits the Community Centre every 6 weeks. Pleas
 e call or email to book your appointment for this next visit.\n\nCash Only
  - on the day.
CATEGORIES:On-Site Services
LOCATION:Age Concern Chelmsford\, 17 Cottage Place\, Chelmsford\, Essex\, C
 M1 1NL\, United Kingdom
X-APPLE-STRUCTURED-LOCATION;VALUE=URI;X-ADDRESS=17 Cottage Place\, Chelmsfo
 rd\, Essex\, CM1 1NL\, United Kingdom;X-APPLE-RADIUS=100;X-TITLE=Age Conce
 rn Chelmsford:geo:0,0
END:VEVENT
BEGIN:VTIMEZONE
TZID:Europe/London
X-LIC-LOCATION:Europe/London
BEGIN:DAYLIGHT
DTSTART:20250330T020000
TZOFFSETFROM:+0000
TZOFFSETTO:+0100
TZNAME:BST
END:DAYLIGHT
END:VTIMEZONE
END:VCALENDAR